BEGIN:VCALENDAR
VERSION:2.0
PRODID:-//ChamberMaster//Event Calendar 2.0//EN
METHOD:PUBLISH
X-PUBLISHED-TTL:P3D
REFRESH-INTERVAL:P3D
CALSCALE:GREGORIAN
BEGIN:VEVENT
DTSTART;VALUE=DATE:20200229
DTEND;VALUE=DATE:20200301
TRANSP:TRANSPARENT
X-MICROSOFT-CDO-ALLDAYEVENT:TRUE
SUMMARY:Americana Awards-Cypress College Foundation
DESCRIPTION:https://www.cypresscollege.edu/about/foundation/majorevents/americana-awards/
X-ALT-DESC;FMTTYPE=text/html:<a href="https://www.cypresscollege.edu/about/foundation/majorevents/americana-awards/">https://www.cypresscollege.edu/about/foundation/majorevents/americana-awards/</a><br />\n&nbsp\;
LOCATION:
UID:e.3334.1288
SEQUENCE:3
DTSTAMP:20260424T151154Z
URL:https://www.cypresschamber.org/events/details/americana-awards-cypress-college-foundation-1288
END:VEVENT

END:VCALENDAR
